BEGIN:VCALENDAR
VERSION:2.0
PRODID:-//Clevedon Players//NONSGML kigkonsult.se iCalcreator 2.30.10//
CALSCALE:GREGORIAN
METHOD:PUBLISH
UID:7da2d81c-8759-42c7-8ec5-34ebc9b362d1
X-WR-CALNAME:iCagenda
X-WR-CALDESC:Event Management Extension for Joomla!
X-WR-RELCALID:3E26604A-50F4-4449-8B3E-E4F4932D05B5
X-WR-TIMEZONE:Europe/London
BEGIN:VTIMEZONE
TZID:Europe/London
BEGIN:STANDARD
TZNAME:GMT
DTSTART:20181028T020000
TZOFFSETFROM:+0100
TZOFFSETTO:+0000
RDATE:20191027T020000
RDATE:20201025T020000
END:STANDARD
BEGIN:DAYLIGHT
TZNAME:BST
DTSTART:20190331T010000
TZOFFSETFROM:+0000
TZOFFSETTO:+0100
RDATE:20200329T010000
RDATE:20210328T010000
END:DAYLIGHT
END:VTIMEZONE
BEGIN:VEVENT
UID:2b684c79-0723-4e88-abb6-1ab3829f8a8a
DTSTAMP:20260423T145916Z
CATEGORIES:Shows
CLASS:PUBLIC
DESCRIPTION:
DTSTART:20191011T183000Z
DTEND:20191011T183000Z
GEO:+51.438499;-2.856415
LOCATION:Clevedon Princes Theatre
ORGANIZER:
SEQUENCE:1
SUMMARY:Murder On Air
TRANSP:OPAQUE
URL:http://www.clevedonplayers.co.uk/component/icagenda/2-murder-on-air/201
 9-10-11-19-30
END:VEVENT
END:VCALENDAR
